BEGIN:VCALENDAR
VERSION:2.0
PRODID:-//wp-events-plugin.com//7.2.3.1//EN
TZID:Europe/Berlin
X-WR-TIMEZONE:Europe/Berlin
BEGIN:VEVENT
UID:245@kolleg-dat.de
DTSTART;VALUE=DATE:20260815
DTEND;VALUE=DATE:20260817
DTSTAMP:20250423T124831Z
URL:https://kolleg-dat.de/seminar/kommunikations-und-selbstwerttraining-fu
 er-senioren-mit-adhs-angebot-fuer-betroffene-ab-65-jahren-6/
SUMMARY:Kommunikations- und Selbstwerttraining für Senioren mit ADHS  (Ang
 ebot für Betroffene ab 65 Jahren)
DESCRIPTION:„Opi\, Du hast auch ADHS!“ bekommen in den letzten Jahren i
 mmer mehr Senioren auf den Kopf zugesagt – speziell\, wenn eher für die
 se Lebensphase „ungewöhnliches“ gemacht/unternommen wird (eine Riesen
 tour mit dem Fahrrad\, Marathonlauf noch mit 75 Jahren u.v.m.)\nAn die Sch
 wierigkeiten im Kindesalter\, die die Enkel mit ADHS heute in der Schule h
 aben\, können sich viele Senioren aber nicht erinnern – oder Sie hatten
  sie nicht\, da die Welt damals noch viel reizärmer\, strukturierter war\
 , in der Schule klare Vorgaben gemacht wurden. Vielleicht war man ja auch 
 nur „faul“ gewesen?\nDie Vergesslichkeit wird heute oft sofort mit „
 Demenz“ bezeichnet – und ist oft gar keine – denn man braucht in jed
 em Alter bei Dingen\, die man aufnehmen soll (z.B. die Bedienung eines „
 modernen Geräts“) eine mehrfache\, geduldige Wiederholung\, sonst wird 
 dieses Gerät unter Umständen gar nicht benutzt…\nMan will u.U. seine K
 inder und Enkelkinder ja nur „begleiten“\, merkt gar nicht\, dass man 
 sich eigentlich nur ungefragt einmischt\, noch irgendwie „das Schlimmste
  verhindern“ will.\nIm Kopf und Herz noch oft sehr jung\, fürchten sich
  viele vor dem Verlust der Kräfte\, merken überdeutlich\, wie sich die G
 esellschaft in eine merkwürdige Oberflächlichkeit verwandelt\, schieben 
 Dinge auf\, die Sie vielleicht „regeln“ sollten.\nIn diesem Grund – 
 und Aufbaukurs soll Wissen über ADHS und die gelingende Kommunikation wie
  in den anderen Modulen auch vermittelt werden\, aber auch „heiße Eisen
 “ besprochen werden (Wohnen\, Führerschein\, Verfügungen und die Ängs
 te dabei).\nEs gibt viel zu entdecken\, wie das Älterwerden gelingen kann
 !\n
CATEGORIES:ADHS,Betroffene-Events,Kommunikationstraining,KT Senioren
LOCATION:Kolleg-DAT e.V.\, Unter der Bleiche 18a\, Münsingen\, Germany\, 7
 2525\, Deutschland
GEO:48.415623;9.494477
X-APPLE-STRUCTURED-LOCATION;VALUE=URI;X-ADDRESS=Unter der Bleiche 18a\, Mü
 nsingen\, Germany\, 72525\, Deutschland;X-APPLE-RADIUS=100;X-TITLE=Kolleg-
 DAT e.V.:geo:48.415623,9.494477
END:VEVENT
END:VCALENDAR